BEGIN:VCALENDAR
VERSION:2.0
PRODID:-//hacksw/handcal//NONSGML v1.0//EN
BEGIN:VEVENT
SUMMARY:Cours des Petits
UID:a6487a60-b03c-4419-86f4-b211d92ff9b0
DTSTART:20260619T161500Z
DTEND:20260619T171500Z
LOCATION:Localisation   
CATEGORIES:Entrainement
STATUS:
DESCRIPTION:<p>Cours Poussins - Mini Poussins (2019 a 2016)</p>
URL;VALUE=URI:https://www.jcartix.com/evenements/2026/06/19/cours-des-petits-2410474
END:VEVENT
END:VCALENDAR
