BEGIN:VCALENDAR
VERSION:2.0
PRODID:-//hacksw/handcal//NONSGML v1.0//EN
BEGIN:VEVENT
SUMMARY:Cours des Petits
UID:b41861d2-c406-4ae9-ac63-5b9f5258c946
DTSTART:20260616T161500Z
DTEND:20260616T171500Z
LOCATION:Localisation   
CATEGORIES:Entrainement
STATUS:
DESCRIPTION:<p>Cours Poussins - Mini Poussins (2019 a 2016)</p>
URL;VALUE=URI:https://www.jcartix.com/evenements/2026/06/16/cours-des-petits-2410475
END:VEVENT
END:VCALENDAR
