BEGIN:VCALENDAR
VERSION:2.0
PRODID:-//hacksw/handcal//NONSGML v1.0//EN
BEGIN:VEVENT
SUMMARY:Cours des Grands
UID:29f8b6af-9557-4525-9412-415eeff05a4f
DTSTART:20260616T173000Z
DTEND:20260616T183000Z
LOCATION:Localisation   
CATEGORIES:Entrainement
STATUS:
DESCRIPTION:<p>Cours des grands a partir de Benjamin (2015 et
 plus)</p>
URL;VALUE=URI:https://www.jcartix.com/evenements/2026/06/16/cours-des-grands-2410501
END:VEVENT
END:VCALENDAR
