BEGIN:VCALENDAR
VERSION:2.0
PRODID:-//hacksw/handcal//NONSGML v1.0//EN
BEGIN:VEVENT
SUMMARY:Cours des Grands
UID:6f103d04-7036-46c9-986a-2871ad71b9b8
DTSTART:20260612T173000Z
DTEND:20260612T184500Z
LOCATION:Localisation   
CATEGORIES:Entrainement
STATUS:
DESCRIPTION:<p>Cours des grands a partir de Benjamin (2015 et
 plus)</p>
URL;VALUE=URI:https://www.jcartix.com/evenements/2026/06/12/cours-des-grands-2410492
END:VEVENT
END:VCALENDAR
