BEGIN:VCALENDAR
VERSION:2.0
PRODID:-//hacksw/handcal//NONSGML v1.0//EN
BEGIN:VEVENT
SUMMARY:Cours des Petits
UID:46c51f1e-11c1-4d89-a35b-3419b62d6675
DTSTART:20260609T161500Z
DTEND:20260609T171500Z
LOCATION:Localisation   
CATEGORIES:Entrainement
STATUS:
DESCRIPTION:<p>Cours Poussins - Mini Poussins (2019 a 2016)</p>
URL;VALUE=URI:https://www.jcartix.com/evenements/2026/06/09/cours-des-petits-2410477
END:VEVENT
END:VCALENDAR
