BEGIN:VCALENDAR
VERSION:2.0
PRODID:-//hacksw/handcal//NONSGML v1.0//EN
BEGIN:VEVENT
SUMMARY:Cours des Grands
UID:08dee4df-e094-49ad-8da9-5bdafcc4a6e4
DTSTART:20260609T173000Z
DTEND:20260609T183000Z
LOCATION:Localisation   
CATEGORIES:Entrainement
STATUS:
DESCRIPTION:<p>Cours des grands a partir de Benjamin (2015 et
 plus)</p>
URL;VALUE=URI:https://www.jcartix.com/evenements/2026/06/09/cours-des-grands-2410509
END:VEVENT
END:VCALENDAR
