BEGIN:VCALENDAR
VERSION:2.0
PRODID:-//hacksw/handcal//NONSGML v1.0//EN
BEGIN:VEVENT
SUMMARY:Cours des Petits
UID:63e1c4f7-0d46-4cd3-8acf-d96052d799e3
DTSTART:20260605T161500Z
DTEND:20260605T171500Z
LOCATION:Localisation   
CATEGORIES:Entrainement
STATUS:
DESCRIPTION:<p>Cours Poussins - Mini Poussins (2019 a 2016)</p>
URL;VALUE=URI:https://www.jcartix.com/evenements/2026/06/05/cours-des-petits-2410478
END:VEVENT
END:VCALENDAR
