BEGIN:VCALENDAR
VERSION:2.0
PRODID:-//hacksw/handcal//NONSGML v1.0//EN
BEGIN:VEVENT
SUMMARY:Cours des Grands
UID:82490598-96e9-407a-bb33-d7b538c3ef7b
DTSTART:20260605T173000Z
DTEND:20260605T184500Z
LOCATION:Localisation   
CATEGORIES:Entrainement
STATUS:
DESCRIPTION:<p>Cours des grands a partir de Benjamin (2015 et
 plus)</p>
URL;VALUE=URI:https://www.jcartix.com/evenements/2026/06/05/cours-des-grands-2410493
END:VEVENT
END:VCALENDAR
