BEGIN:VCALENDAR
VERSION:2.0
PRODID:-//hacksw/handcal//NONSGML v1.0//EN
BEGIN:VEVENT
SUMMARY:Cours des Petits
UID:59afd862-1387-4e61-858d-59184e81156c
DTSTART:20260602T161500Z
DTEND:20260602T171500Z
LOCATION:Localisation   
CATEGORIES:Entrainement
STATUS:
DESCRIPTION:<p>Cours Poussins - Mini Poussins (2019 a 2016)</p>
URL;VALUE=URI:https://www.jcartix.com/evenements/2026/06/02/cours-des-petits-2410479
END:VEVENT
END:VCALENDAR
