BEGIN:VCALENDAR
VERSION:2.0
PRODID:-//hacksw/handcal//NONSGML v1.0//EN
BEGIN:VEVENT
SUMMARY:Cours des Grands
UID:5ed82983-3caf-4838-b4ad-9987d51d1732
DTSTART:20260602T173000Z
DTEND:20260602T183000Z
LOCATION:Localisation   
CATEGORIES:Entrainement
STATUS:
DESCRIPTION:<p>Cours des grands a partir de Benjamin (2015 et
 plus)</p>
URL;VALUE=URI:https://www.jcartix.com/evenements/2026/06/02/cours-des-grands-2410510
END:VEVENT
END:VCALENDAR
