BEGIN:VCALENDAR
VERSION:2.0
PRODID:-//hacksw/handcal//NONSGML v1.0//EN
BEGIN:VEVENT
SUMMARY:Cours des Petits
UID:1bbff7ef-ba5b-4151-95e8-fcb41e4c7783
DTSTART:20260529T161500Z
DTEND:20260529T171500Z
LOCATION:Localisation   
CATEGORIES:Entrainement
STATUS:
DESCRIPTION:<p>Cours Poussins - Mini Poussins (2019 a 2016)</p>
URL;VALUE=URI:https://www.jcartix.com/evenements/2026/05/29/cours-des-petits-2410480
END:VEVENT
END:VCALENDAR
