BEGIN:VCALENDAR
VERSION:2.0
PRODID:-//hacksw/handcal//NONSGML v1.0//EN
BEGIN:VEVENT
SUMMARY:Cours des Grands
UID:0a50f36e-60cd-4f66-ae6b-a2c6f314bc8c
DTSTART:20260529T173000Z
DTEND:20260529T184500Z
LOCATION:Localisation   
CATEGORIES:Entrainement
STATUS:
DESCRIPTION:<p>Cours des grands a partir de Benjamin (2015 et
 plus)</p>
URL;VALUE=URI:https://www.jcartix.com/evenements/2026/05/29/cours-des-grands-2410494
END:VEVENT
END:VCALENDAR
