BEGIN:VCALENDAR
VERSION:2.0
PRODID:-//hacksw/handcal//NONSGML v1.0//EN
BEGIN:VEVENT
SUMMARY:Cours des Grands
UID:8689243c-3a1b-466e-b4a2-79eef3c6378c
DTSTART:20260526T173000Z
DTEND:20260526T183000Z
LOCATION:Localisation   
CATEGORIES:Entrainement
STATUS:
DESCRIPTION:<p>Cours des grands a partir de Benjamin (2015 et
 plus)</p>
URL;VALUE=URI:https://www.jcartix.com/evenements/2026/05/26/cours-des-grands-2410511
END:VEVENT
END:VCALENDAR
