BEGIN:VCALENDAR
VERSION:2.0
PRODID:-//hacksw/handcal//NONSGML v1.0//EN
BEGIN:VEVENT
SUMMARY:Cours des Grands
UID:485af20e-c219-4f92-a074-2e74333647cd
DTSTART:20260522T173000Z
DTEND:20260522T184500Z
LOCATION:Localisation   
CATEGORIES:Entrainement
STATUS:
DESCRIPTION:<p>Cours des grands a partir de Benjamin (2015 et
 plus)</p>
URL;VALUE=URI:https://www.jcartix.com/evenements/2026/05/22/cours-des-grands-2410495
END:VEVENT
END:VCALENDAR
