BEGIN:VCALENDAR
VERSION:2.0
PRODID:-//hacksw/handcal//NONSGML v1.0//EN
BEGIN:VEVENT
SUMMARY:Cours des Grands
UID:82da4341-5519-49eb-ab55-5c8763917fda
DTSTART:20260515T173000Z
DTEND:20260515T184500Z
LOCATION:Localisation   
CATEGORIES:Entrainement
STATUS:
DESCRIPTION:<p>Cours des grands a partir de Benjamin (2015 et
 plus)</p>
URL;VALUE=URI:https://www.jcartix.com/evenements/2026/05/15/cours-des-grands-2410496
END:VEVENT
END:VCALENDAR
