BEGIN:VCALENDAR
VERSION:2.0
PRODID:-//hacksw/handcal//NONSGML v1.0//EN
BEGIN:VEVENT
SUMMARY:Cours des Petits
UID:9a154fca-d1da-4463-95ef-0eb5eb351a24
DTSTART:20260512T161500Z
DTEND:20260512T171500Z
LOCATION:Localisation   
CATEGORIES:Entrainement
STATUS:
DESCRIPTION:<p>Cours Poussins - Mini Poussins (2019 a 2016)</p>
URL;VALUE=URI:https://www.jcartix.com/evenements/2026/05/12/cours-des-petits-2410471
END:VEVENT
END:VCALENDAR
