BEGIN:VCALENDAR
VERSION:2.0
PRODID:-//hacksw/handcal//NONSGML v1.0//EN
BEGIN:VEVENT
SUMMARY:Cours des Grands
UID:87afd026-0ff4-42a4-a1a7-c02a1ffd4dd4
DTSTART:20260512T173000Z
DTEND:20260512T183000Z
LOCATION:Localisation   
CATEGORIES:Entrainement
STATUS:
DESCRIPTION:<p>Cours des grands a partir de Benjamin (2015 et
 plus)</p>
URL;VALUE=URI:https://www.jcartix.com/evenements/2026/05/12/cours-des-grands-2410513
END:VEVENT
END:VCALENDAR
