BEGIN:VCALENDAR
VERSION:2.0
PRODID:-//hacksw/handcal//NONSGML v1.0//EN
BEGIN:VEVENT
SUMMARY:Cours des Petits
UID:cd33538a-d105-4a63-a32b-9f713de8330b
DTSTART:20260428T161500Z
DTEND:20260428T171500Z
LOCATION:Localisation   
CATEGORIES:Entrainement
STATUS:
DESCRIPTION:<p>Cours Poussins - Mini Poussins (2019 a 2016)</p>
URL;VALUE=URI:https://www.jcartix.com/evenements/2026/04/28/cours-des-petits-2410468
END:VEVENT
END:VCALENDAR
