BEGIN:VCALENDAR
VERSION:2.0
PRODID:-//hacksw/handcal//NONSGML v1.0//EN
BEGIN:VEVENT
SUMMARY:Cours des Grands
UID:7eb23244-c37b-4d3d-b7ae-f74047fb51af
DTSTART:20260428T173000Z
DTEND:20260428T183000Z
LOCATION:Localisation   
CATEGORIES:Entrainement
STATUS:
DESCRIPTION:<p>Cours des grands a partir de Benjamin (2015 et
 plus)</p>
URL;VALUE=URI:https://www.jcartix.com/evenements/2026/04/28/cours-des-grands-2410515
END:VEVENT
END:VCALENDAR
