BEGIN:VCALENDAR
VERSION:2.0
PRODID:-//hacksw/handcal//NONSGML v1.0//EN
BEGIN:VEVENT
SUMMARY:Cours des Grands
UID:e7996261-9ba6-4b48-932b-198e9fc31ab6
DTSTART:20260424T173000Z
DTEND:20260424T184500Z
LOCATION:Localisation   
CATEGORIES:Entrainement
STATUS:
DESCRIPTION:<p>Cours des grands a partir de Benjamin (2015 et
 plus)</p>
URL;VALUE=URI:https://www.jcartix.com/evenements/2026/04/24/cours-des-grands-2410497
END:VEVENT
END:VCALENDAR
