BEGIN:VCALENDAR
VERSION:2.0
PRODID:-//hacksw/handcal//NONSGML v1.0//EN
BEGIN:VEVENT
SUMMARY:Cours des Petits
UID:54a17e1c-763a-4cf9-b062-4a565581cf39
DTSTART:20260421T161500Z
DTEND:20260421T171500Z
LOCATION:Localisation   
CATEGORIES:Entrainement
STATUS:
DESCRIPTION:<p>Cours Poussins - Mini Poussins (2019 a 2016)</p>
URL;VALUE=URI:https://www.jcartix.com/evenements/2026/04/21/cours-des-petits-2410481
END:VEVENT
END:VCALENDAR
