BEGIN:VCALENDAR
VERSION:2.0
PRODID:-//hacksw/handcal//NONSGML v1.0//EN
BEGIN:VEVENT
SUMMARY:Cours des Grands
UID:121e8cbe-64c6-42e0-aa16-4dc1b29296f6
DTSTART:20260313T183000Z
DTEND:20260313T194500Z
LOCATION:Localisation   
CATEGORIES:Entrainement
STATUS:
DESCRIPTION:<p>Cours des grands a partir de Benjamin (2015 et
 plus)</p>
URL;VALUE=URI:https://www.jcartix.com/evenements/2026/03/13/cours-des-grands-2410488
END:VEVENT
END:VCALENDAR
