BEGIN:VCALENDAR
VERSION:2.0
PRODID:-//hacksw/handcal//NONSGML v1.0//EN
BEGIN:VEVENT
SUMMARY:Cours des Petits
UID:0c3c4be4-e851-4d9e-897a-bc2a02ddec29
DTSTART:20260306T171500Z
DTEND:20260306T181500Z
LOCATION:Localisation   
CATEGORIES:Entrainement
STATUS:
DESCRIPTION:<p>Cours Poussins - Mini Poussins (2019 a 2016)</p>
URL;VALUE=URI:https://www.jcartix.com/evenements/2026/03/06/cours-des-petits-2410453
END:VEVENT
END:VCALENDAR
