BEGIN:VCALENDAR
VERSION:2.0
PRODID:-//hacksw/handcal//NONSGML v1.0//EN
BEGIN:VEVENT
SUMMARY:Cours des Grands
UID:e8715df3-1751-431d-b006-b464013683b6
DTSTART:20260306T183000Z
DTEND:20260306T194500Z
LOCATION:Localisation   
CATEGORIES:Entrainement
STATUS:
DESCRIPTION:<p>Cours des grands a partir de Benjamin (2015 et
 plus)</p>
URL;VALUE=URI:https://www.jcartix.com/evenements/2026/03/06/cours-des-grands-2410489
END:VEVENT
END:VCALENDAR
