BEGIN:VCALENDAR
VERSION:2.0
PRODID:-//hacksw/handcal//NONSGML v1.0//EN
BEGIN:VEVENT
SUMMARY:Cours des Grands
UID:70f9def1-8bc9-4d22-b942-a85031598de1
DTSTART:20260227T183000Z
DTEND:20260227T194500Z
LOCATION:Localisation   
CATEGORIES:Entrainement
STATUS:
DESCRIPTION:<p>Cours des grands a partir de Benjamin (2015 et
 plus)</p>
URL;VALUE=URI:https://www.jcartix.com/evenements/2026/02/27/cours-des-grands-2410487
END:VEVENT
END:VCALENDAR
